BEGIN:VCALENDAR
VERSION:2.0
PRODID:-//ABCP - ECPv6.15.20//NONSGML v1.0//EN
CALSCALE:GREGORIAN
METHOD:PUBLISH
X-ORIGINAL-URL:https://abcp.org.uk
X-WR-CALDESC:Events for ABCP
REFRESH-INTERVAL;VALUE=DURATION:PT1H
X-Robots-Tag:noindex
X-PUBLISHED-TTL:PT1H
BEGIN:VTIMEZONE
TZID:Europe/London
BEGIN:DAYLIGHT
TZOFFSETFROM:+0000
TZOFFSETTO:+0100
TZNAME:BST
DTSTART:20230326T010000
END:DAYLIGHT
BEGIN:STANDARD
TZOFFSETFROM:+0100
TZOFFSETTO:+0000
TZNAME:GMT
DTSTART:20231029T010000
END:STANDARD
BEGIN:DAYLIGHT
TZOFFSETFROM:+0000
TZOFFSETTO:+0100
TZNAME:BST
DTSTART:20240331T010000
END:DAYLIGHT
BEGIN:STANDARD
TZOFFSETFROM:+0100
TZOFFSETTO:+0000
TZNAME:GMT
DTSTART:20241027T010000
END:STANDARD
BEGIN:DAYLIGHT
TZOFFSETFROM:+0000
TZOFFSETTO:+0100
TZNAME:BST
DTSTART:20250330T010000
END:DAYLIGHT
BEGIN:STANDARD
TZOFFSETFROM:+0100
TZOFFSETTO:+0000
TZNAME:GMT
DTSTART:20251026T010000
END:STANDARD
END:VTIMEZONE
BEGIN:VEVENT
DTSTART;TZID=Europe/London:20240926T160000
DTEND;TZID=Europe/London:20240926T170000
DTSTAMP:20260424T092832
CREATED:20241230T192251Z
LAST-MODIFIED:20241230T192251Z
UID:7162-1727366400-1727370000@abcp.org.uk
SUMMARY:Creating and leveraging opportunities in career development
DESCRIPTION:This event is organised by the EDI Working Group of ABCP as part of its “每月一谈” (“Monthly Topical Discussion”) series. \nPanellists\n\nProfessor Zhibing Zhang FREng (张志军教授)\, Professor of Chemical Engineering & Co-Director of the China Institute\, University of Birmingham\nProfessor Hua Dong (董华教授)\, Professor and Head of School\, Brunel Design School\, Brunel University\n\nFacilitator:\n\nProfessor Huabing Yin (尹华兵教授)\, School of Engineering\, University of Glasgow\, UK & VP for EDI and Chair of EDI Working Group\, ABCP\n\nLanguage\nThe panel discussion will be made in Chinese. \nAbstract\nThis panel discussion will see two senior Chinese academics sharing their experiences in creating and leveraging opportunities in career development\, which will be particularly useful for helping ECRs (early career researchers) and non-professorial academics. The panellists will also answer questions from the participants.
URL:https://abcp.org.uk/event/20240926-opportunities-career-development/
LOCATION:virtual
CATEGORIES:EDI Working Group events
ORGANIZER;CN="ABCP (Association of British Chinese Professors%2C %E5%85%A8%E8%8B%B1%E5%8D%8E%E4%BA%BA%E6%95%99%E6%8E%88%E5%8D%8F%E4%BC%9A)":MAILTO:contact@abcp.org.uk
END:VEVENT
END:VCALENDAR