BEGIN:VCALENDAR
VERSION:2.0
PRODID:-//ABCP - ECPv6.15.20//NONSGML v1.0//EN
CALSCALE:GREGORIAN
METHOD:PUBLISH
X-WR-CALNAME:ABCP
X-ORIGINAL-URL:http://abcp.org.uk
X-WR-CALDESC:Events for ABCP
REFRESH-INTERVAL;VALUE=DURATION:PT1H
X-Robots-Tag:noindex
X-PUBLISHED-TTL:PT1H
BEGIN:VTIMEZONE
TZID:Europe/London
BEGIN:DAYLIGHT
TZOFFSETFROM:+0000
TZOFFSETTO:+0100
TZNAME:BST
DTSTART:20220327T010000
END:DAYLIGHT
BEGIN:STANDARD
TZOFFSETFROM:+0100
TZOFFSETTO:+0000
TZNAME:GMT
DTSTART:20221030T010000
END:STANDARD
BEGIN:DAYLIGHT
TZOFFSETFROM:+0000
TZOFFSETTO:+0100
TZNAME:BST
DTSTART:20230326T010000
END:DAYLIGHT
BEGIN:STANDARD
TZOFFSETFROM:+0100
TZOFFSETTO:+0000
TZNAME:GMT
DTSTART:20231029T010000
END:STANDARD
BEGIN:DAYLIGHT
TZOFFSETFROM:+0000
TZOFFSETTO:+0100
TZNAME:BST
DTSTART:20240331T010000
END:DAYLIGHT
BEGIN:STANDARD
TZOFFSETFROM:+0100
TZOFFSETTO:+0000
TZNAME:GMT
DTSTART:20241027T010000
END:STANDARD
END:VTIMEZONE
BEGIN:VEVENT
DTSTART;TZID=Europe/London:20230120T190000
DTEND;TZID=Europe/London:20230120T200000
DTSTAMP:20260421T101559
CREATED:20230121T101504Z
LAST-MODIFIED:20230211T191825Z
UID:4852-1674241200-1674244800@abcp.org.uk
SUMMARY:2023 Chinese New Year (CNY) regional gatherings and gala
DESCRIPTION:To celebrate the 2023 Chinese New Year\, the ABCP organised an online gala on 20th January 2023 7-8pm on Zoom\, and a number of in-person gatherings organised by the regional coordinators in the following cities: Birmingham\, Belfast\, Glasgow\, Manchester\, Bristol\, London and Canterbury. \nThe online gala’s joining information is below: \nhttps://us06web.zoom.us/j/85371715550?pwd=RE5XSmJlTVc3cTVqdGoyTVlYMkEvZz09 \nWebinar ID: 853 7171 5550\nPasscode: 963512 \nThe online gala’s programme can be found below:
URL:http://abcp.org.uk/event/2023-chinese-new-year-regional-gatherings-gala/
LOCATION:virtual
ORGANIZER;CN="ABCP (Association of British Chinese Professors%2C %E5%85%A8%E8%8B%B1%E5%8D%8E%E4%BA%BA%E6%95%99%E6%8E%88%E5%8D%8F%E4%BC%9A)":MAILTO:contact@abcp.org.uk
END:VEVENT
END:VCALENDAR